BEGIN:VCALENDAR
VERSION:2.0
PRODID:-//Tukios.com/
BEGIN:VEVENT
UID:a6d56de8-cb37-4d48-8883-297063cc2d45@www.bakerfhga.com
DTSTAMP:20260419T203258Z
DTSTART:20260422T150000Z
DTEND:20260422T160000Z
SUMMARY:Funeral Service
DESCRIPTION:
URL:https://www.bakerfhga.com/obituaries/tramese-merritt
LOCATION: 2222 Hwy 37 East  Moultrie GA 31788
GEO:31.1933952;-83.7466818
END:VEVENT
END:VCALENDAR