BEGIN:VCALENDAR
VERSION:2.0
PRODID:-//Tukios.com/
BEGIN:VEVENT
UID:afd7f466-7c29-4e22-8760-4b2bb36cedba@www.bakerfhga.com
DTSTAMP:20260419T202831Z
DTSTART:20260421T220000Z
DTEND:20260422T000000Z
SUMMARY:Visitation
DESCRIPTION:
URL:https://www.bakerfhga.com/obituaries/tramese-merritt
LOCATION: 2222 Hwy 37 East  Moultrie GA 31788
GEO:31.1933952;-83.7466818
END:VEVENT
END:VCALENDAR