BEGIN:VCALENDAR
VERSION:2.0
PRODID:-//Tukios.com/
BEGIN:VEVENT
UID:8f23e14c-ba68-4b32-8d7d-afc5269e26c3@www.bakerfhga.com
DTSTAMP:20260420T230455Z
DTSTART:20260502T180000Z
DTEND:20260502T190000Z
SUMMARY:Memorial Service
DESCRIPTION:
URL:https://www.bakerfhga.com/obituaries/tammie-conner-poole
LOCATION:Christian Crusade Church 964 Georgia 133  Moultrie GA 31788
GEO:31.1593258;-83.7381705
END:VEVENT
END:VCALENDAR