BEGIN:VCALENDAR
VERSION:2.0
PRODID:-//Tukios.com/
BEGIN:VEVENT
UID:066dab44-c54a-4adf-9b0b-348b519bd72c@www.bakerfhga.com
DTSTAMP:20260423T231219Z
DTSTART:20260426T190000Z
DTEND:20260426T200000Z
SUMMARY:Graveside Service
DESCRIPTION:
URL:https://www.bakerfhga.com/obituaries/robert-tucker
LOCATION:Ochlocknee City Cemetery Cemetery Road  Ochlocknee GA 31773
GEO:30.9737997;-84.0529518
END:VEVENT
END:VCALENDAR