BEGIN:VCALENDAR
VERSION:2.0
PRODID:-//Tukios.com/
BEGIN:VEVENT
UID:b92044e0-d412-4c47-ad40-e727c08f8cfa@www.bakerfhga.com
DTSTAMP:20260419T231042Z
DTSTART:20260423T180000Z
DTEND:20260423T190000Z
SUMMARY:Funeral Service
DESCRIPTION:
URL:https://www.bakerfhga.com/obituaries/larry-burley
LOCATION: 2222 Hwy 37 East  Moultrie GA 31788
GEO:31.1933952;-83.7466818
END:VEVENT
END:VCALENDAR