BEGIN:VCALENDAR
VERSION:2.0
PRODID:-//Tukios.com/
BEGIN:VEVENT
UID:a22b649e-3d52-4dc4-a011-4421ed661975@www.bakerfhga.com
DTSTAMP:20260419T230959Z
DTSTART:20260423T170000Z
DTEND:20260423T180000Z
SUMMARY:Visitation
DESCRIPTION:
URL:https://www.bakerfhga.com/obituaries/larry-burley
LOCATION: 2222 Hwy 37 East  Moultrie GA 31788
GEO:31.1933952;-83.7466818
END:VEVENT
END:VCALENDAR